BEGIN:VCALENDAR
VERSION:2.0
PRODID:-//Calhoun County Events - ECPv6.15.20//NONSGML v1.0//EN
CALSCALE:GREGORIAN
METHOD:PUBLISH
X-ORIGINAL-URL:https://portlavacaevents.com
X-WR-CALDESC:Events for Calhoun County Events
REFRESH-INTERVAL;VALUE=DURATION:PT1H
X-Robots-Tag:noindex
X-PUBLISHED-TTL:PT1H
BEGIN:VTIMEZONE
TZID:America/Chicago
BEGIN:DAYLIGHT
TZOFFSETFROM:-0600
TZOFFSETTO:-0500
TZNAME:CDT
DTSTART:20250309T080000
END:DAYLIGHT
BEGIN:STANDARD
TZOFFSETFROM:-0500
TZOFFSETTO:-0600
TZNAME:CST
DTSTART:20251102T070000
END:STANDARD
BEGIN:DAYLIGHT
TZOFFSETFROM:-0600
TZOFFSETTO:-0500
TZNAME:CDT
DTSTART:20260308T080000
END:DAYLIGHT
BEGIN:STANDARD
TZOFFSETFROM:-0500
TZOFFSETTO:-0600
TZNAME:CST
DTSTART:20261101T070000
END:STANDARD
BEGIN:DAYLIGHT
TZOFFSETFROM:-0600
TZOFFSETTO:-0500
TZNAME:CDT
DTSTART:20270314T080000
END:DAYLIGHT
BEGIN:STANDARD
TZOFFSETFROM:-0500
TZOFFSETTO:-0600
TZNAME:CST
DTSTART:20271107T070000
END:STANDARD
END:VTIMEZONE
BEGIN:VEVENT
DTSTART;TZID=America/Chicago:20260404T160000
DTEND;TZID=America/Chicago:20260405T000000
DTSTAMP:20260421T055639
CREATED:20260105T151527Z
LAST-MODIFIED:20260313T094859Z
UID:10000908-1775318400-1775347200@portlavacaevents.com
SUMMARY:Iguana Fest 2026
DESCRIPTION:SAVE THE DATE! \nGet ready for music\, food\, and family fun at this local favorite street party. \nMore exciting details will be revealed soon\, and we can’t wait for you to see this year’s amazing lineup! \nSo grab your chairs\, rally your friends and family\, and join us at Downtown Port Lavaca \n>>> Vendor sign-up https://pltx.org/iguanavendor \n>>> Find us on Facebook > Iguana Fest \n>>> Visit our Website HOME | iguanafest \n 
URL:https://portlavacaevents.com/event/iguana-fest-2026/
LOCATION:Downtown Port Lavaca\, 237 E Main St\, Port Lavaca\, TX\, 77979\, United States
CATEGORIES:Community,Fairs & Festivals,Outdoor,Port Lavaca
END:VEVENT
END:VCALENDAR