BEGIN:VCALENDAR
VERSION:2.0
PRODID:-//Calhoun County Events - ECPv6.15.20//NONSGML v1.0//EN
CALSCALE:GREGORIAN
METHOD:PUBLISH
X-WR-CALNAME:Calhoun County Events
X-ORIGINAL-URL:https://portlavacaevents.com
X-WR-CALDESC:Events for Calhoun County Events
REFRESH-INTERVAL;VALUE=DURATION:PT1H
X-Robots-Tag:noindex
X-PUBLISHED-TTL:PT1H
BEGIN:VTIMEZONE
TZID:America/Chicago
BEGIN:DAYLIGHT
TZOFFSETFROM:-0600
TZOFFSETTO:-0500
TZNAME:CDT
DTSTART:20250309T080000
END:DAYLIGHT
BEGIN:STANDARD
TZOFFSETFROM:-0500
TZOFFSETTO:-0600
TZNAME:CST
DTSTART:20251102T070000
END:STANDARD
BEGIN:DAYLIGHT
TZOFFSETFROM:-0600
TZOFFSETTO:-0500
TZNAME:CDT
DTSTART:20260308T080000
END:DAYLIGHT
BEGIN:STANDARD
TZOFFSETFROM:-0500
TZOFFSETTO:-0600
TZNAME:CST
DTSTART:20261101T070000
END:STANDARD
BEGIN:DAYLIGHT
TZOFFSETFROM:-0600
TZOFFSETTO:-0500
TZNAME:CDT
DTSTART:20270314T080000
END:DAYLIGHT
BEGIN:STANDARD
TZOFFSETFROM:-0500
TZOFFSETTO:-0600
TZNAME:CST
DTSTART:20271107T070000
END:STANDARD
END:VTIMEZONE
BEGIN:VEVENT
DTSTART;TZID=America/Chicago:20260409T000000
DTEND;TZID=America/Chicago:20260412T235959
DTSTAMP:20260419T130253
CREATED:20260105T152223Z
LAST-MODIFIED:20260105T152224Z
UID:10000909-1775692800-1776038399@portlavacaevents.com
SUMMARY:Texas Mid-Coast Birding Festival
DESCRIPTION:The Texas Mid-Coast Birding Festival will return for its second year\, offering bird enthusiasts and nature lovers a unique opportunity to experience the incredible diversity of birds along the Texas Gulf Coast. \nThe event features: \n\nGuided tours\nEducational workshops\nConservation efforts\nTrade Show\nGrand supper\n\nThis is your chance to be part of something special. Don’t miss out on this exclusive event! Visit the website for full details. Texas Mid-Coast Birding Festival – “Where Coastal Wings Meet Nature’s Wonders”
URL:https://portlavacaevents.com/event/texas-mid-coast-birding-festival-2/
LOCATION:Bauer Community Center\, 2300 Hwy. 35 N.\, Port Lavaca\, 77979\, United States
CATEGORIES:Community,Fairs & Festivals,Outdoor,Port Lavaca
ATTACH;FMTTYPE=image/png:https://portlavacaevents.com/wp-content/uploads/2025/06/Texas-Mid-Coast-Birding-Festival-01-1-e1767626507451.png
END:VEVENT
END:VCALENDAR