BEGIN:VCALENDAR
VERSION:2.0
PRODID:-//Calhoun County Events - ECPv6.15.20//NONSGML v1.0//EN
CALSCALE:GREGORIAN
METHOD:PUBLISH
X-WR-CALNAME:Calhoun County Events
X-ORIGINAL-URL:https://portlavacaevents.com
X-WR-CALDESC:Events for Calhoun County Events
REFRESH-INTERVAL;VALUE=DURATION:PT1H
X-Robots-Tag:noindex
X-PUBLISHED-TTL:PT1H
BEGIN:VTIMEZONE
TZID:America/Chicago
BEGIN:DAYLIGHT
TZOFFSETFROM:-0600
TZOFFSETTO:-0500
TZNAME:CDT
DTSTART:20220313T080000
END:DAYLIGHT
BEGIN:STANDARD
TZOFFSETFROM:-0500
TZOFFSETTO:-0600
TZNAME:CST
DTSTART:20221106T070000
END:STANDARD
BEGIN:DAYLIGHT
TZOFFSETFROM:-0600
TZOFFSETTO:-0500
TZNAME:CDT
DTSTART:20230312T080000
END:DAYLIGHT
BEGIN:STANDARD
TZOFFSETFROM:-0500
TZOFFSETTO:-0600
TZNAME:CST
DTSTART:20231105T070000
END:STANDARD
BEGIN:DAYLIGHT
TZOFFSETFROM:-0600
TZOFFSETTO:-0500
TZNAME:CDT
DTSTART:20240310T080000
END:DAYLIGHT
BEGIN:STANDARD
TZOFFSETFROM:-0500
TZOFFSETTO:-0600
TZNAME:CST
DTSTART:20241103T070000
END:STANDARD
END:VTIMEZONE
BEGIN:VEVENT
DTSTART;TZID=America/Chicago:20231114T170000
DTEND;TZID=America/Chicago:20231114T200000
DTSTAMP:20260423T061223
CREATED:20231025T103942Z
LAST-MODIFIED:20231025T104037Z
UID:10000032-1699981200-1699992000@portlavacaevents.com
SUMMARY:Nonprofit Expo
DESCRIPTION:Calhoun County Nonprofit Expo will feature various organization and groups sharing information. Lots of free giveaways\, food\, games and door prizes.
URL:https://portlavacaevents.com/event/non-profit-expo/
LOCATION:Bauer Community Center\, 2300 Hwy. 35 N.\, Port Lavaca\, 77979\, United States
CATEGORIES:Community,Port Lavaca
ATTACH;FMTTYPE=image/png:https://portlavacaevents.com/wp-content/uploads/2023/10/Non-Profit-Expo-2023-1.png
ORGANIZER;CN="Port Lavaca Chamber of Commerce":MAILTO:tania@portlavacaevents.com
END:VEVENT
END:VCALENDAR