BEGIN:VCALENDAR
VERSION:2.0
PRODID:-//Calhoun County Events - ECPv6.15.20//NONSGML v1.0//EN
CALSCALE:GREGORIAN
METHOD:PUBLISH
X-WR-CALNAME:Calhoun County Events
X-ORIGINAL-URL:https://portlavacaevents.com
X-WR-CALDESC:Events for Calhoun County Events
REFRESH-INTERVAL;VALUE=DURATION:PT1H
X-Robots-Tag:noindex
X-PUBLISHED-TTL:PT1H
BEGIN:VTIMEZONE
TZID:America/Chicago
BEGIN:DAYLIGHT
TZOFFSETFROM:-0600
TZOFFSETTO:-0500
TZNAME:CDT
DTSTART:20220313T080000
END:DAYLIGHT
BEGIN:STANDARD
TZOFFSETFROM:-0500
TZOFFSETTO:-0600
TZNAME:CST
DTSTART:20221106T070000
END:STANDARD
BEGIN:DAYLIGHT
TZOFFSETFROM:-0600
TZOFFSETTO:-0500
TZNAME:CDT
DTSTART:20230312T080000
END:DAYLIGHT
BEGIN:STANDARD
TZOFFSETFROM:-0500
TZOFFSETTO:-0600
TZNAME:CST
DTSTART:20231105T070000
END:STANDARD
BEGIN:DAYLIGHT
TZOFFSETFROM:-0600
TZOFFSETTO:-0500
TZNAME:CDT
DTSTART:20240310T080000
END:DAYLIGHT
BEGIN:STANDARD
TZOFFSETFROM:-0500
TZOFFSETTO:-0600
TZNAME:CST
DTSTART:20241103T070000
END:STANDARD
END:VTIMEZONE
BEGIN:VEVENT
DTSTART;TZID=America/Chicago:20231111T130000
DTEND;TZID=America/Chicago:20231111T150000
DTSTAMP:20260423T061213
CREATED:20231101T222351Z
LAST-MODIFIED:20231101T222351Z
UID:10000288-1699707600-1699714800@portlavacaevents.com
SUMMARY:Veterans Day Celebration
DESCRIPTION:Come join us as we celebrate the veterans in our community. We will have free food\, drinks\, games\, door prizes and live music by Charlie Alstrom.\n\nThank you Port Lavaca HEB for helping to host this event!\n\nFor more information contact Jennifer at 361-827-6632 or Tania at 361-920-9788.
URL:https://portlavacaevents.com/event/veterans-day-celebration/
LOCATION:Lighthouse Beach Park\, 700 Lighthouse Beach Rd.\, Port Lavaca\, TX\, 77979\, United States
CATEGORIES:Community,Port Lavaca
ATTACH;FMTTYPE=image/jpeg:https://portlavacaevents.com/wp-content/uploads/2023/11/Veterans-Day-Flyer1.jpg
END:VEVENT
END:VCALENDAR