BEGIN:VCALENDAR
VERSION:2.0
PRODID:-//Calhoun County Events - ECPv6.15.20//NONSGML v1.0//EN
CALSCALE:GREGORIAN
METHOD:PUBLISH
X-ORIGINAL-URL:https://portlavacaevents.com
X-WR-CALDESC:Events for Calhoun County Events
REFRESH-INTERVAL;VALUE=DURATION:PT1H
X-Robots-Tag:noindex
X-PUBLISHED-TTL:PT1H
BEGIN:VTIMEZONE
TZID:America/Chicago
BEGIN:DAYLIGHT
TZOFFSETFROM:-0600
TZOFFSETTO:-0500
TZNAME:CDT
DTSTART:20220313T080000
END:DAYLIGHT
BEGIN:STANDARD
TZOFFSETFROM:-0500
TZOFFSETTO:-0600
TZNAME:CST
DTSTART:20221106T070000
END:STANDARD
BEGIN:DAYLIGHT
TZOFFSETFROM:-0600
TZOFFSETTO:-0500
TZNAME:CDT
DTSTART:20230312T080000
END:DAYLIGHT
BEGIN:STANDARD
TZOFFSETFROM:-0500
TZOFFSETTO:-0600
TZNAME:CST
DTSTART:20231105T070000
END:STANDARD
BEGIN:DAYLIGHT
TZOFFSETFROM:-0600
TZOFFSETTO:-0500
TZNAME:CDT
DTSTART:20240310T080000
END:DAYLIGHT
BEGIN:STANDARD
TZOFFSETFROM:-0500
TZOFFSETTO:-0600
TZNAME:CST
DTSTART:20241103T070000
END:STANDARD
END:VTIMEZONE
BEGIN:VEVENT
DTSTART;TZID=America/Chicago:20231014T100000
DTEND;TZID=America/Chicago:20231014T110000
DTSTAMP:20260421T120806
CREATED:20230917T015100Z
LAST-MODIFIED:20230917T015825Z
UID:10000020-1697277600-1697281200@portlavacaevents.com
SUMMARY:Calhoun County Fair Parade
DESCRIPTION:Calhoun County’s Fair Parade starts at 10 a.m. \nLineup will begin at 7 a.m. at the CHS Stadium\, we are ONLY using the Hwy. 35 entrance. \nAll vehicles in the parade are to be in line by 9 A.M. With the volume of entries\, we are trying to keep this as safe and efficient for everyone as possible. THE ONLY VEHICLES ALLOWED IN THE HWY. 35 ENTRANCE ARE THOSE ENTERED IN THE PARADE. \nAll individuals in the parade are to be dropped by Travis to the stadium before 9:30 a.m. \n 
URL:https://portlavacaevents.com/event/calhoun-county-fair-parade/
LOCATION:Calhoun County Fair
CATEGORIES:Community,Fairs & Festivals,Outdoor,Point Comfort,Port Lavaca,Port O'Connor,Seadrift
ORGANIZER;CN="Calhoun County Fair Association":MAILTO:info@calhouncountyfair.com
END:VEVENT
BEGIN:VEVENT
DTSTART;TZID=America/Chicago:20231017T170000
DTEND;TZID=America/Chicago:20231021T233000
DTSTAMP:20260421T120806
CREATED:20230917T014531Z
LAST-MODIFIED:20230917T015803Z
UID:10000019-1697562000-1697931000@portlavacaevents.com
SUMMARY:Calhoun County Fair
DESCRIPTION:Welcome to the 87th annual Calhoun County Fair and Livestock Show  & Rodeo. Many young men and women benefit from our programs throughout the years either through the auction\, queen’s contest\, public speaking and our scholarship program. While our mission is dedicated to providing youth enrichment we also encourage family involvement through our livestock show\, carnival\, entertainment\, good food and friendly environment.  We strive to provide the best county fair possible for the residents of Calhoun County. The Calhoun County Fair will set out to provide the most educational and entertaining experience that resources will allow to help preserve and promote the traditions of Agriculture and Family & Consumer Sciences. We support the 4-H and FFA youth of Calhoun County to showcase project work and livestock to the general public.
URL:https://portlavacaevents.com/event/calhoun-county-fair/
LOCATION:Calhoun County Fair
CATEGORIES:Community,Fairs & Festivals,Outdoor,Point Comfort,Port Lavaca,Port O'Connor,Seadrift
ORGANIZER;CN="Calhoun County Fair Association":MAILTO:info@calhouncountyfair.com
END:VEVENT
BEGIN:VEVENT
DTSTART;TZID=America/Chicago:20231017T180000
DTEND;TZID=America/Chicago:20231017T200000
DTSTAMP:20260421T120806
CREATED:20230917T015720Z
LAST-MODIFIED:20230917T015720Z
UID:10000026-1697565600-1697572800@portlavacaevents.com
SUMMARY:Calhoun County Fair Queen Pageant
DESCRIPTION:Welcome to the 2023 Queen Pageant at the Calhoun County Fair.  The 2023 Calhoun County Fair Queen will be crowned on October 17\, 2023 . \nContestants interested in participating in this year’s Fair Queen Scholarship Contest must be a Calhoun County resident and must be in 9th – 12th grade.  The Miss must be in the 6th – 8th grade\, the Jr. Little Miss must be in 3rd-5th grade\, and the Little Miss and Mr must be K – 2nd grade.
URL:https://portlavacaevents.com/event/calhoun-county-fair-queen-pageant/
LOCATION:Calhoun County Fair
CATEGORIES:Community,Fairs & Festivals,Outdoor,Point Comfort,Port Lavaca,Port O'Connor,Seadrift
ORGANIZER;CN="Calhoun County Fair Association":MAILTO:info@calhouncountyfair.com
END:VEVENT
BEGIN:VEVENT
DTSTART;TZID=America/Chicago:20231019T180000
DTEND;TZID=America/Chicago:20231019T210000
DTSTAMP:20260421T120806
CREATED:20230917T021222Z
LAST-MODIFIED:20230917T021617Z
UID:10000027-1697738400-1697749200@portlavacaevents.com
SUMMARY:Calhoun County Fair Livestock Auction
DESCRIPTION:Livestock Registration starts at 6 p.m. in barn. \nThe Livestock Auction begins at 6:30 p.m. in barn.
URL:https://portlavacaevents.com/event/calhoun-county-fair-livestock-auction/
LOCATION:Calhoun County Fair
CATEGORIES:Community,Fairs & Festivals,Outdoor,Point Comfort,Port Lavaca,Port O'Connor,Seadrift
ORGANIZER;CN="Calhoun County Fair Association":MAILTO:info@calhouncountyfair.com
END:VEVENT
BEGIN:VEVENT
DTSTART;TZID=America/Chicago:20231021T113000
DTEND;TZID=America/Chicago:20231021T150000
DTSTAMP:20260421T120806
CREATED:20230917T021548Z
LAST-MODIFIED:20230917T021548Z
UID:10000028-1697887800-1697900400@portlavacaevents.com
SUMMARY:Calhoun County Fair Heifer Auction and Luncheon
DESCRIPTION:Commercial Heifers Buyers Luncheon starts at 11:30 a.m. in the AG Building. \nThe Commercial Heifer Auction begins at 1:00 p.m. in the Heifer Barn.
URL:https://portlavacaevents.com/event/calhoun-county-fair-heifer-auction-and-luncheon/
LOCATION:Calhoun County Fair
CATEGORIES:Community,Fairs & Festivals,Outdoor,Point Comfort,Port Lavaca,Port O'Connor,Seadrift
ORGANIZER;CN="Calhoun County Fair Association":MAILTO:info@calhouncountyfair.com
END:VEVENT
BEGIN:VEVENT
DTSTART;TZID=America/Chicago:20231026T170000
DTEND;TZID=America/Chicago:20231026T203000
DTSTAMP:20260421T120806
CREATED:20231025T101419Z
LAST-MODIFIED:20231025T101958Z
UID:10000030-1698339600-1698352200@portlavacaevents.com
SUMMARY:HJM Chili Supper
DESCRIPTION:HJM Elementary School annual chili supper. Games\, Snack and Chili!
URL:https://portlavacaevents.com/event/hjm-chili-supper/
LOCATION:HJM Elementary School\, 605 N. Commerce St\, Port Lavaca\, TX\, 77979\, United States
CATEGORIES:Port Lavaca,Schools
END:VEVENT
BEGIN:VEVENT
DTSTART;TZID=America/Chicago:20231027T180000
DTEND;TZID=America/Chicago:20231027T200000
DTSTAMP:20260421T120806
CREATED:20231025T175500Z
LAST-MODIFIED:20231025T175500Z
UID:10000223-1698429600-1698436800@portlavacaevents.com
SUMMARY:The Harbor's Sportsman's Night Out
DESCRIPTION:Hall Opens 6pm (Happy Hour 6 to 7) \nMeal @ 7 pm \nSportsman’s Games\, Penny raffle\, Silent Auction\, Card Raffle\, & Dice Game.
URL:https://portlavacaevents.com/event/the-harbors-sportsmans-night-out/
LOCATION:Bauer Community Center\, 2300 Hwy. 35 N.\, Port Lavaca\, 77979\, United States
CATEGORIES:Community,Port Lavaca
ATTACH;FMTTYPE=image/jpeg:https://portlavacaevents.com/wp-content/uploads/2023/10/Harbor-Sportsman-2023.jpg
END:VEVENT
BEGIN:VEVENT
DTSTART;TZID=America/Chicago:20231028T100000
DTEND;TZID=America/Chicago:20231028T120000
DTSTAMP:20260421T120806
CREATED:20231025T151929Z
LAST-MODIFIED:20231025T151929Z
UID:10000221-1698487200-1698494400@portlavacaevents.com
SUMMARY:YMCA Trunk or Treat
DESCRIPTION:Treats\, games\, moon jump\, tons of fun!
URL:https://portlavacaevents.com/event/ymca-trunk-or-treat/
LOCATION:Calhoun County YMCA\, 713 Hwy 35 South\, Port Lavaca\, TX\, 77979\, United States
CATEGORIES:Community,Port Lavaca
ATTACH;FMTTYPE=image/jpeg:https://portlavacaevents.com/wp-content/uploads/2023/10/ymca-t-or-t-2023.jpg
END:VEVENT
BEGIN:VEVENT
DTSTART;TZID=America/Chicago:20231028T160000
DTEND;TZID=America/Chicago:20231028T200000
DTSTAMP:20260421T120806
CREATED:20231025T102548Z
LAST-MODIFIED:20231026T104220Z
UID:10000220-1698508800-1698523200@portlavacaevents.com
SUMMARY:Monster Mile Mash
DESCRIPTION:Treats\, selfie stations and more. This event is free and fun for the entire family.
URL:https://portlavacaevents.com/event/monster-mile-mash/
LOCATION:Lighthouse Beach Park\, 700 Lighthouse Beach Rd.\, Port Lavaca\, TX\, 77979\, United States
CATEGORIES:Community,Outdoor,Port Lavaca
ATTACH;FMTTYPE=image/png:https://portlavacaevents.com/wp-content/uploads/2023/10/Monster-Mile-Mash-Poster-2023-tsf1.png
END:VEVENT
BEGIN:VEVENT
DTSTART;TZID=America/Chicago:20231028T190000
DTEND;TZID=America/Chicago:20231028T220000
DTSTAMP:20260421T120806
CREATED:20231026T102347Z
LAST-MODIFIED:20231026T102347Z
UID:10000233-1698519600-1698530400@portlavacaevents.com
SUMMARY:Nightmare on Main Street Haunted House
DESCRIPTION:Calhoun High School Class of 2024 has created an amazing haunted house. It’s over 4\,200 square feet of spooky fun! 931 W. Main St.\, Port Lavaca
URL:https://portlavacaevents.com/event/nightmare-on-main-street-haunted-house/2023-10-28/
CATEGORIES:Community,Port Lavaca,Schools
ATTACH;FMTTYPE=image/png:https://portlavacaevents.com/wp-content/uploads/2023/10/DFC26F5E-439F-4F9D-AAE5-A9D26BAD491D.png
END:VEVENT
BEGIN:VEVENT
DTSTART;TZID=America/Chicago:20231029T190000
DTEND;TZID=America/Chicago:20231029T220000
DTSTAMP:20260421T120806
CREATED:20231026T102347Z
LAST-MODIFIED:20231026T102347Z
UID:10000234-1698606000-1698616800@portlavacaevents.com
SUMMARY:Nightmare on Main Street Haunted House
DESCRIPTION:Calhoun High School Class of 2024 has created an amazing haunted house. It’s over 4\,200 square feet of spooky fun! 931 W. Main St.\, Port Lavaca
URL:https://portlavacaevents.com/event/nightmare-on-main-street-haunted-house/2023-10-29/
CATEGORIES:Community,Port Lavaca,Schools
ATTACH;FMTTYPE=image/png:https://portlavacaevents.com/wp-content/uploads/2023/10/DFC26F5E-439F-4F9D-AAE5-A9D26BAD491D.png
END:VEVENT
BEGIN:VEVENT
DTSTART;TZID=America/Chicago:20231030T190000
DTEND;TZID=America/Chicago:20231030T220000
DTSTAMP:20260421T120806
CREATED:20231026T102347Z
LAST-MODIFIED:20231026T102347Z
UID:10000235-1698692400-1698703200@portlavacaevents.com
SUMMARY:Nightmare on Main Street Haunted House
DESCRIPTION:Calhoun High School Class of 2024 has created an amazing haunted house. It’s over 4\,200 square feet of spooky fun! 931 W. Main St.\, Port Lavaca
URL:https://portlavacaevents.com/event/nightmare-on-main-street-haunted-house/2023-10-30/
CATEGORIES:Community,Port Lavaca,Schools
ATTACH;FMTTYPE=image/png:https://portlavacaevents.com/wp-content/uploads/2023/10/DFC26F5E-439F-4F9D-AAE5-A9D26BAD491D.png
END:VEVENT
BEGIN:VEVENT
DTSTART;TZID=America/Chicago:20231031T190000
DTEND;TZID=America/Chicago:20231031T220000
DTSTAMP:20260421T120806
CREATED:20231026T102347Z
LAST-MODIFIED:20231026T102347Z
UID:10000236-1698778800-1698789600@portlavacaevents.com
SUMMARY:Nightmare on Main Street Haunted House
DESCRIPTION:Calhoun High School Class of 2024 has created an amazing haunted house. It’s over 4\,200 square feet of spooky fun! 931 W. Main St.\, Port Lavaca
URL:https://portlavacaevents.com/event/nightmare-on-main-street-haunted-house/2023-10-31/
CATEGORIES:Community,Port Lavaca,Schools
ATTACH;FMTTYPE=image/png:https://portlavacaevents.com/wp-content/uploads/2023/10/DFC26F5E-439F-4F9D-AAE5-A9D26BAD491D.png
END:VEVENT
END:VCALENDAR