BEGIN:VCALENDAR
VERSION:2.0
PRODID:-//Calhoun County Events - ECPv6.15.20//NONSGML v1.0//EN
CALSCALE:GREGORIAN
METHOD:PUBLISH
X-ORIGINAL-URL:https://portlavacaevents.com
X-WR-CALDESC:Events for Calhoun County Events
REFRESH-INTERVAL;VALUE=DURATION:PT1H
X-Robots-Tag:noindex
X-PUBLISHED-TTL:PT1H
BEGIN:VTIMEZONE
TZID:America/Chicago
BEGIN:DAYLIGHT
TZOFFSETFROM:-0600
TZOFFSETTO:-0500
TZNAME:CDT
DTSTART:20220313T080000
END:DAYLIGHT
BEGIN:STANDARD
TZOFFSETFROM:-0500
TZOFFSETTO:-0600
TZNAME:CST
DTSTART:20221106T070000
END:STANDARD
BEGIN:DAYLIGHT
TZOFFSETFROM:-0600
TZOFFSETTO:-0500
TZNAME:CDT
DTSTART:20230312T080000
END:DAYLIGHT
BEGIN:STANDARD
TZOFFSETFROM:-0500
TZOFFSETTO:-0600
TZNAME:CST
DTSTART:20231105T070000
END:STANDARD
BEGIN:DAYLIGHT
TZOFFSETFROM:-0600
TZOFFSETTO:-0500
TZNAME:CDT
DTSTART:20240310T080000
END:DAYLIGHT
BEGIN:STANDARD
TZOFFSETFROM:-0500
TZOFFSETTO:-0600
TZNAME:CST
DTSTART:20241103T070000
END:STANDARD
END:VTIMEZONE
BEGIN:VEVENT
DTSTART;TZID=America/Chicago:20230902T070000
DTEND;TZID=America/Chicago:20230903T003000
DTSTAMP:20260425T065529
CREATED:20230817T170225Z
LAST-MODIFIED:20230823T153131Z
UID:10000018-1693638000-1693701000@portlavacaevents.com
SUMMARY:Flip Flop Festical 2023
DESCRIPTION:The City of Port Lavaca\, TX\, is excited to bring you the Annual Flip Flop Festival. The Flip Flop Festival is an exciting\, family-friendly event that visitors and locals like look forward to each year. The waterfront location and festival experience gives attendees a taste of what you can expect when you visit Port Lavaca – a welcoming atmosphere\, friendly conversation\, a great view of the water\, cold drinks\, great food\, shopping\, and of course\, flip-flops! 
URL:https://portlavacaevents.com/event/flip-flop-festical-2023/
LOCATION:Bayfront Peninsula Park\, 501 E. Main Street\, Port Lavaca\, TX\, 77979\, United States
CATEGORIES:Community,Fairs & Festivals,Outdoor,Port Lavaca
ATTACH;FMTTYPE=image/png:https://portlavacaevents.com/wp-content/uploads/2023/08/Screenshot-2023-08-17-at-11.59.08-AM.png
END:VEVENT
BEGIN:VEVENT
DTSTART;TZID=America/Chicago:20230910T090000
DTEND;TZID=America/Chicago:20230910T110000
DTSTAMP:20260425T065529
CREATED:20230907T134546Z
LAST-MODIFIED:20230907T134546Z
UID:10000025-1694336400-1694343600@portlavacaevents.com
SUMMARY:9/11 Memorial Stair Climb
DESCRIPTION:Join us for the third annual Calhoun County Memorial Stair Climb which pays tribute to 343 FDNY firefighters by climbing or walking the equivalent of the 110 stories of the World Trade Center. Help us as we show the world that Calhoun County will never forget.
URL:https://portlavacaevents.com/event/9-11-memorial-stair-climb/
LOCATION:Sandcrab Stadium\, 734 Tx-35\, Port Lavaca\, Tx\, 77979
CATEGORIES:Community,Outdoor,Port Lavaca
ATTACH;FMTTYPE=image/png:https://portlavacaevents.com/wp-content/uploads/2023/09/Screenshot-2023-09-07-at-8.18.43-AM.png
END:VEVENT
BEGIN:VEVENT
DTSTART;TZID=America/Chicago:20230916T110000
DTEND;TZID=America/Chicago:20230916T140000
DTSTAMP:20260425T065529
CREATED:20230907T134015Z
LAST-MODIFIED:20230911T194740Z
UID:10000024-1694862000-1694872800@portlavacaevents.com
SUMMARY:United Way of Calhoun County Family Fun Day Campaign Kickoff
DESCRIPTION:Free fun for the whole family! September 16th from 11am-2pm. We will be hosting our 8th annual United Way Family Fun Day at the Bayfront Peninsula. Come out and meet our partner agencies\, local law enforcement and first responders. Free food\, games and much more!  We hope to see you there!
URL:https://portlavacaevents.com/event/united-ways-of-calhoun-county-family-fun-day-campaign-kickoff/
LOCATION:Bayfront Peninsula Park\, 501 E. Main Street\, Port Lavaca\, TX\, 77979\, United States
CATEGORIES:Community,Outdoor,Port Lavaca
ATTACH;FMTTYPE=image/jpeg:https://portlavacaevents.com/wp-content/uploads/2023/09/362917903_587771770234590_1454255445555449163_n-2.jpg
ORGANIZER;CN="Port Lavaca Chamber of Commerce":MAILTO:tania@portlavacaevents.com
END:VEVENT
END:VCALENDAR