BEGIN:VCALENDAR
VERSION:2.0
PRODID:-//Calhoun County Events - ECPv6.15.20//NONSGML v1.0//EN
CALSCALE:GREGORIAN
METHOD:PUBLISH
X-WR-CALNAME:Calhoun County Events
X-ORIGINAL-URL:https://portlavacaevents.com
X-WR-CALDESC:Events for Calhoun County Events
REFRESH-INTERVAL;VALUE=DURATION:PT1H
X-Robots-Tag:noindex
X-PUBLISHED-TTL:PT1H
BEGIN:VTIMEZONE
TZID:America/Chicago
BEGIN:DAYLIGHT
TZOFFSETFROM:-0600
TZOFFSETTO:-0500
TZNAME:CDT
DTSTART:20220313T080000
END:DAYLIGHT
BEGIN:STANDARD
TZOFFSETFROM:-0500
TZOFFSETTO:-0600
TZNAME:CST
DTSTART:20221106T070000
END:STANDARD
BEGIN:DAYLIGHT
TZOFFSETFROM:-0600
TZOFFSETTO:-0500
TZNAME:CDT
DTSTART:20230312T080000
END:DAYLIGHT
BEGIN:STANDARD
TZOFFSETFROM:-0500
TZOFFSETTO:-0600
TZNAME:CST
DTSTART:20231105T070000
END:STANDARD
BEGIN:DAYLIGHT
TZOFFSETFROM:-0600
TZOFFSETTO:-0500
TZNAME:CDT
DTSTART:20240310T080000
END:DAYLIGHT
BEGIN:STANDARD
TZOFFSETFROM:-0500
TZOFFSETTO:-0600
TZNAME:CST
DTSTART:20241103T070000
END:STANDARD
BEGIN:DAYLIGHT
TZOFFSETFROM:-0600
TZOFFSETTO:-0500
TZNAME:CDT
DTSTART:20250309T080000
END:DAYLIGHT
BEGIN:STANDARD
TZOFFSETFROM:-0500
TZOFFSETTO:-0600
TZNAME:CST
DTSTART:20251102T070000
END:STANDARD
BEGIN:DAYLIGHT
TZOFFSETFROM:-0600
TZOFFSETTO:-0500
TZNAME:CDT
DTSTART:20260308T080000
END:DAYLIGHT
BEGIN:STANDARD
TZOFFSETFROM:-0500
TZOFFSETTO:-0600
TZNAME:CST
DTSTART:20261101T070000
END:STANDARD
END:VTIMEZONE
BEGIN:VEVENT
DTSTART;TZID=America/Chicago:20250628T130000
DTEND;TZID=America/Chicago:20250628T220000
DTSTAMP:20260425T104942
CREATED:20250623T201402Z
LAST-MODIFIED:20250623T203425Z
UID:10000850-1751115600-1751148000@portlavacaevents.com
SUMMARY:City of Point Comfort Bash at the Bay 2025
DESCRIPTION:
URL:https://portlavacaevents.com/event/city-of-point-comfort-bash-at-the-bay-2025/
CATEGORIES:Community,Market Days,Outdoor,Point Comfort
END:VEVENT
BEGIN:VEVENT
DTSTART;TZID=America/Chicago:20241221T190000
DTEND;TZID=America/Chicago:20241221T210000
DTSTAMP:20260425T104942
CREATED:20241210T153745Z
LAST-MODIFIED:20241210T154328Z
UID:10000795-1734807600-1734814800@portlavacaevents.com
SUMMARY:Point Comfort Community Christmas- Tree Lighting
DESCRIPTION:
URL:https://portlavacaevents.com/event/point-comfort-community-christmas-tree-lighting/
CATEGORIES:Community,Holiday,Point Comfort
END:VEVENT
BEGIN:VEVENT
DTSTART;TZID=America/Chicago:20241221T180000
DTEND;TZID=America/Chicago:20241221T190000
DTSTAMP:20260425T104942
CREATED:20241210T153635Z
LAST-MODIFIED:20241210T154308Z
UID:10000794-1734804000-1734807600@portlavacaevents.com
SUMMARY:Point Comfort Community Christmas- Parade
DESCRIPTION:
URL:https://portlavacaevents.com/event/point-comfort-community-christmas-parade/
CATEGORIES:Community,Holiday,Point Comfort
END:VEVENT
BEGIN:VEVENT
DTSTART;TZID=America/Chicago:20241221T130000
DTEND;TZID=America/Chicago:20241221T170000
DTSTAMP:20260425T104942
CREATED:20241210T153343Z
LAST-MODIFIED:20241210T153343Z
UID:10000793-1734786000-1734800400@portlavacaevents.com
SUMMARY:Point Comfort Community Christmas- Community Potluck
DESCRIPTION:
URL:https://portlavacaevents.com/event/point-comfort-community-christmas-community-potluck/
CATEGORIES:Community,Holiday,Point Comfort
END:VEVENT
BEGIN:VEVENT
DTSTART;TZID=America/Chicago:20240713T170000
DTEND;TZID=America/Chicago:20240713T210000
DTSTAMP:20260425T104942
CREATED:20240704T144202Z
LAST-MODIFIED:20240704T144202Z
UID:10000346-1720890000-1720904400@portlavacaevents.com
SUMMARY:Bash at the Bay 2024
DESCRIPTION:The City of Point Comfort will host Bash at the Bay on Saturday\, July 13th. Gates open at 5 p.m. This is an free event.
URL:https://portlavacaevents.com/event/bash-at-the-bay-2024/
CATEGORIES:Community,Outdoor,Point Comfort
ATTACH;FMTTYPE=image/jpeg:https://portlavacaevents.com/wp-content/uploads/2024/07/Point-Comfort-Fireworks-1.jpg
END:VEVENT
BEGIN:VEVENT
DTSTART;TZID=America/Chicago:20240713T120000
DTEND;TZID=America/Chicago:20240713T150000
DTSTAMP:20260425T104942
CREATED:20240704T143240Z
LAST-MODIFIED:20240704T143240Z
UID:10000344-1720872000-1720882800@portlavacaevents.com
SUMMARY:Calhoun County Lemonade Day
DESCRIPTION:Support kids during Calhoun County Lemonade Day.
URL:https://portlavacaevents.com/event/calhoun-county-lemonade-day-2/
CATEGORIES:Community,Point Comfort,Port Lavaca,Port O'Connor,Seadrift
ATTACH;FMTTYPE=image/jpeg:https://portlavacaevents.com/wp-content/uploads/2024/07/Calhoun-County-Lemonade-Day-Flyer-2024-1.jpg
ORGANIZER;CN="Port Lavaca Chamber of Commerce":MAILTO:tania@portlavacaevents.com
END:VEVENT
BEGIN:VEVENT
DTSTART;TZID=America/Chicago:20231028T173000
DTEND;TZID=America/Chicago:20231028T203000
DTSTAMP:20260425T104942
CREATED:20231025T204535Z
LAST-MODIFIED:20231025T204535Z
UID:10000224-1698514200-1698525000@portlavacaevents.com
SUMMARY:City of Point Comfort 's Annual Trunk or Treak
DESCRIPTION:Saturday\, October 28\, 2023\n5:30 – 8:30\nWaterfront Park\n1100 N Lamar St\, Point Comfort\, TX 77978 \nFree Hotdogs\, Chips and Drinks provided by the Point Comfort Volunteer Fire Department
URL:https://portlavacaevents.com/event/city-of-point-comfort-s-annual-trunk-or-treak/
LOCATION:Waterfront Park\, 1100 N. Lamar St.\, Point Comfort\, TX\, 77978\, United States
CATEGORIES:Community,Point Comfort
ATTACH;FMTTYPE=image/jpeg:https://portlavacaevents.com/wp-content/uploads/2023/10/Point-Comfort-Trunk-or-Treat.jpg
END:VEVENT
BEGIN:VEVENT
DTSTART;TZID=America/Chicago:20231021T113000
DTEND;TZID=America/Chicago:20231021T150000
DTSTAMP:20260425T104942
CREATED:20230917T021548Z
LAST-MODIFIED:20230917T021548Z
UID:10000028-1697887800-1697900400@portlavacaevents.com
SUMMARY:Calhoun County Fair Heifer Auction and Luncheon
DESCRIPTION:Commercial Heifers Buyers Luncheon starts at 11:30 a.m. in the AG Building. \nThe Commercial Heifer Auction begins at 1:00 p.m. in the Heifer Barn.
URL:https://portlavacaevents.com/event/calhoun-county-fair-heifer-auction-and-luncheon/
LOCATION:Calhoun County Fair
CATEGORIES:Community,Fairs & Festivals,Outdoor,Point Comfort,Port Lavaca,Port O'Connor,Seadrift
ORGANIZER;CN="Calhoun County Fair Association":MAILTO:info@calhouncountyfair.com
END:VEVENT
BEGIN:VEVENT
DTSTART;TZID=America/Chicago:20231019T180000
DTEND;TZID=America/Chicago:20231019T210000
DTSTAMP:20260425T104942
CREATED:20230917T021222Z
LAST-MODIFIED:20230917T021617Z
UID:10000027-1697738400-1697749200@portlavacaevents.com
SUMMARY:Calhoun County Fair Livestock Auction
DESCRIPTION:Livestock Registration starts at 6 p.m. in barn. \nThe Livestock Auction begins at 6:30 p.m. in barn.
URL:https://portlavacaevents.com/event/calhoun-county-fair-livestock-auction/
LOCATION:Calhoun County Fair
CATEGORIES:Community,Fairs & Festivals,Outdoor,Point Comfort,Port Lavaca,Port O'Connor,Seadrift
ORGANIZER;CN="Calhoun County Fair Association":MAILTO:info@calhouncountyfair.com
END:VEVENT
BEGIN:VEVENT
DTSTART;TZID=America/Chicago:20231017T180000
DTEND;TZID=America/Chicago:20231017T200000
DTSTAMP:20260425T104942
CREATED:20230917T015720Z
LAST-MODIFIED:20230917T015720Z
UID:10000026-1697565600-1697572800@portlavacaevents.com
SUMMARY:Calhoun County Fair Queen Pageant
DESCRIPTION:Welcome to the 2023 Queen Pageant at the Calhoun County Fair.  The 2023 Calhoun County Fair Queen will be crowned on October 17\, 2023 . \nContestants interested in participating in this year’s Fair Queen Scholarship Contest must be a Calhoun County resident and must be in 9th – 12th grade.  The Miss must be in the 6th – 8th grade\, the Jr. Little Miss must be in 3rd-5th grade\, and the Little Miss and Mr must be K – 2nd grade.
URL:https://portlavacaevents.com/event/calhoun-county-fair-queen-pageant/
LOCATION:Calhoun County Fair
CATEGORIES:Community,Fairs & Festivals,Outdoor,Point Comfort,Port Lavaca,Port O'Connor,Seadrift
ORGANIZER;CN="Calhoun County Fair Association":MAILTO:info@calhouncountyfair.com
END:VEVENT
BEGIN:VEVENT
DTSTART;TZID=America/Chicago:20231017T170000
DTEND;TZID=America/Chicago:20231021T233000
DTSTAMP:20260425T104942
CREATED:20230917T014531Z
LAST-MODIFIED:20230917T015803Z
UID:10000019-1697562000-1697931000@portlavacaevents.com
SUMMARY:Calhoun County Fair
DESCRIPTION:Welcome to the 87th annual Calhoun County Fair and Livestock Show  & Rodeo. Many young men and women benefit from our programs throughout the years either through the auction\, queen’s contest\, public speaking and our scholarship program. While our mission is dedicated to providing youth enrichment we also encourage family involvement through our livestock show\, carnival\, entertainment\, good food and friendly environment.  We strive to provide the best county fair possible for the residents of Calhoun County. The Calhoun County Fair will set out to provide the most educational and entertaining experience that resources will allow to help preserve and promote the traditions of Agriculture and Family & Consumer Sciences. We support the 4-H and FFA youth of Calhoun County to showcase project work and livestock to the general public.
URL:https://portlavacaevents.com/event/calhoun-county-fair/
LOCATION:Calhoun County Fair
CATEGORIES:Community,Fairs & Festivals,Outdoor,Point Comfort,Port Lavaca,Port O'Connor,Seadrift
ORGANIZER;CN="Calhoun County Fair Association":MAILTO:info@calhouncountyfair.com
END:VEVENT
BEGIN:VEVENT
DTSTART;TZID=America/Chicago:20231014T100000
DTEND;TZID=America/Chicago:20231014T110000
DTSTAMP:20260425T104942
CREATED:20230917T015100Z
LAST-MODIFIED:20230917T015825Z
UID:10000020-1697277600-1697281200@portlavacaevents.com
SUMMARY:Calhoun County Fair Parade
DESCRIPTION:Calhoun County’s Fair Parade starts at 10 a.m. \nLineup will begin at 7 a.m. at the CHS Stadium\, we are ONLY using the Hwy. 35 entrance. \nAll vehicles in the parade are to be in line by 9 A.M. With the volume of entries\, we are trying to keep this as safe and efficient for everyone as possible. THE ONLY VEHICLES ALLOWED IN THE HWY. 35 ENTRANCE ARE THOSE ENTERED IN THE PARADE. \nAll individuals in the parade are to be dropped by Travis to the stadium before 9:30 a.m. \n 
URL:https://portlavacaevents.com/event/calhoun-county-fair-parade/
LOCATION:Calhoun County Fair
CATEGORIES:Community,Fairs & Festivals,Outdoor,Point Comfort,Port Lavaca,Port O'Connor,Seadrift
ORGANIZER;CN="Calhoun County Fair Association":MAILTO:info@calhouncountyfair.com
END:VEVENT
BEGIN:VEVENT
DTSTART;TZID=America/Chicago:20230624T170000
DTEND;TZID=America/Chicago:20230624T220000
DTSTAMP:20260425T104942
CREATED:20230613T135529Z
LAST-MODIFIED:20230613T135529Z
UID:10000004-1687626000-1687644000@portlavacaevents.com
SUMMARY:City of Point Comfort Bash at the Bay
DESCRIPTION:City of Point Comfort Bash at the Bay will feature a live DJ and kid entertainment.  Hot dogs\, hamburgers\, chips\, snacks and drinks are available for purchase. Fireworks starts at dark. This is a free event.
URL:https://portlavacaevents.com/event/city-of-point-comfort-bash-at-the-bay/
CATEGORIES:Community,Outdoor,Point Comfort
ATTACH;FMTTYPE=image/jpeg:https://portlavacaevents.com/wp-content/uploads/2023/06/351820723_188943014123943_8290355777954019430_n.jpg
END:VEVENT
END:VCALENDAR